BEGIN:VCALENDAR
VERSION:2.0
PRODID:-//pretix//BSOD_Ticketsystem//
BEGIN:VTIMEZONE
TZID:Europe/Berlin
BEGIN:STANDARD
DTSTART:20001029T040000
RRULE:FREQ=YEARLY;BYDAY=-1SU;BYMONTH=10
TZNAME:CET
TZOFFSETFROM:+0200
TZOFFSETTO:+0100
END:STANDARD
BEGIN:DAYLIGHT
DTSTART:20000326T030000
RRULE:FREQ=YEARLY;BYDAY=-1SU;BYMONTH=3
TZNAME:CEST
TZOFFSETFROM:+0100
TZOFFSETTO:+0200
END:DAYLIGHT
END:VTIMEZONE
BEGIN:VEVENT
UID:pretix-ehrenamtkalender-tafel-1230@tickets.bs-oldesloe.de
DTSTART;TZID=Europe/Berlin:20260130T093000
DTEND;TZID=Europe/Berlin:20260130T110000
DESCRIPTION:Tickets: https://tickets.bs-oldesloe.de/ehrenamtkalender/tafel/
 1230/\nVeranstalter: Ehrenamt-Kalender
DTSTAMP:20260419T215735Z
LOCATION:Turmstraße 14a\, 23843 Bad Oldesloe
SUMMARY:Sortieren der Lebensmittel
END:VEVENT
END:VCALENDAR
