BEGIN:VCALENDAR
VERSION:2.0
PRODID:-//pretix//BSOD_Ticketsystem//
BEGIN:VTIMEZONE
TZID:Europe/Berlin
BEGIN:STANDARD
DTSTART:20001029T040000
RRULE:FREQ=YEARLY;BYDAY=-1SU;BYMONTH=10
TZNAME:CET
TZOFFSETFROM:+0200
TZOFFSETTO:+0100
END:STANDARD
BEGIN:DAYLIGHT
DTSTART:20000326T030000
RRULE:FREQ=YEARLY;BYDAY=-1SU;BYMONTH=3
TZNAME:CEST
TZOFFSETFROM:+0100
TZOFFSETTO:+0200
END:DAYLIGHT
END:VTIMEZONE
BEGIN:VEVENT
UID:pretix-ehrenamtkalender-efa-678@tickets.bs-oldesloe.de
DTSTART;TZID=Europe/Berlin:20260329T111500
DTEND;TZID=Europe/Berlin:20260329T130000
DESCRIPTION:Tickets: https://tickets.bs-oldesloe.de/ehrenamtkalender/efa/67
 8/\nVeranstalter: Ehrenamt-Kalender
DTSTAMP:20260419T185418Z
LOCATION:Unterstützung Essen für Alle (am Kirchberg 7 in Bad Oldesloe)\, 
 Das gemeinsame Essen ist jeweils dienstags\, donnerstags und auch sonntags
  (11:30-13:00 Uhr)
SUMMARY:"Essen für Alle" unterstützen
END:VEVENT
END:VCALENDAR
